BEGIN:VCALENDAR
VERSION:2.0
PRODID:-//Beth McCann - ECPv6.3.1//NONSGML v1.0//EN
CALSCALE:GREGORIAN
METHOD:PUBLISH
X-WR-CALNAME:Beth McCann
X-ORIGINAL-URL:https://bethmccann.ca
X-WR-CALDESC:Events for Beth McCann
REFRESH-INTERVAL;VALUE=DURATION:PT1H
X-Robots-Tag:noindex
X-PUBLISHED-TTL:PT1H
BEGIN:VTIMEZONE
TZID:UTC
BEGIN:STANDARD
TZOFFSETFROM:+0000
TZOFFSETTO:+0000
TZNAME:UTC
DTSTART:20220101T000000
END:STANDARD
END:VTIMEZONE
BEGIN:VEVENT
DTSTART;TZID=UTC:20230717T190000
DTEND;TZID=UTC:20230717T200000
DTSTAMP:20260424T103324
CREATED:20230102T031202Z
LAST-MODIFIED:20230102T031202Z
UID:1463-1689620400-1689624000@bethmccann.ca
SUMMARY:Meditation
DESCRIPTION:Meditation through conscious breathing\, guided visualizations and focus on the energy body (chakras). Compassionate Inquiry. \n1 hour Zoom sessions available.\nMonday: 7:00PM-8:00PM\n*8 Classes ($160)\nJan.16th/23rd. Inquire for access.\n(dropin $20) \nZoom meditation Mon.7-8pm starting Jan.16/23 inquire for access.
URL:https://bethmccann.ca/event/meditation-4-2023-07-17/
CATEGORIES:Meditation
ORGANIZER;CN="Beth McCann":MAILTO:bmccann@telus.net
END:VEVENT
BEGIN:VEVENT
DTSTART;TZID=UTC:20230710T190000
DTEND;TZID=UTC:20230710T200000
DTSTAMP:20260424T103324
CREATED:20230102T031202Z
LAST-MODIFIED:20230102T031202Z
UID:1462-1689015600-1689019200@bethmccann.ca
SUMMARY:Meditation
DESCRIPTION:Meditation through conscious breathing\, guided visualizations and focus on the energy body (chakras). Compassionate Inquiry. \n1 hour Zoom sessions available.\nMonday: 7:00PM-8:00PM\n*8 Classes ($160)\nJan.16th/23rd. Inquire for access.\n(dropin $20) \nZoom meditation Mon.7-8pm starting Jan.16/23 inquire for access.
URL:https://bethmccann.ca/event/meditation-4-2023-07-10/
CATEGORIES:Meditation
ORGANIZER;CN="Beth McCann":MAILTO:bmccann@telus.net
END:VEVENT
BEGIN:VEVENT
DTSTART;TZID=UTC:20230703T190000
DTEND;TZID=UTC:20230703T200000
DTSTAMP:20260424T103324
CREATED:20230102T031202Z
LAST-MODIFIED:20230102T031202Z
UID:1461-1688410800-1688414400@bethmccann.ca
SUMMARY:Meditation
DESCRIPTION:Meditation through conscious breathing\, guided visualizations and focus on the energy body (chakras). Compassionate Inquiry. \n1 hour Zoom sessions available.\nMonday: 7:00PM-8:00PM\n*8 Classes ($160)\nJan.16th/23rd. Inquire for access.\n(dropin $20) \nZoom meditation Mon.7-8pm starting Jan.16/23 inquire for access.
URL:https://bethmccann.ca/event/meditation-4-2023-07-03/
CATEGORIES:Meditation
ORGANIZER;CN="Beth McCann":MAILTO:bmccann@telus.net
END:VEVENT
BEGIN:VEVENT
DTSTART;TZID=UTC:20230626T190000
DTEND;TZID=UTC:20230626T200000
DTSTAMP:20260424T103324
CREATED:20230102T031202Z
LAST-MODIFIED:20230102T031202Z
UID:1460-1687806000-1687809600@bethmccann.ca
SUMMARY:Meditation
DESCRIPTION:Meditation through conscious breathing\, guided visualizations and focus on the energy body (chakras). Compassionate Inquiry. \n1 hour Zoom sessions available.\nMonday: 7:00PM-8:00PM\n*8 Classes ($160)\nJan.16th/23rd. Inquire for access.\n(dropin $20) \nZoom meditation Mon.7-8pm starting Jan.16/23 inquire for access.
URL:https://bethmccann.ca/event/meditation-4-2023-06-26/
CATEGORIES:Meditation
ORGANIZER;CN="Beth McCann":MAILTO:bmccann@telus.net
END:VEVENT
BEGIN:VEVENT
DTSTART;TZID=UTC:20230619T190000
DTEND;TZID=UTC:20230619T200000
DTSTAMP:20260424T103324
CREATED:20230102T031202Z
LAST-MODIFIED:20230102T031202Z
UID:1459-1687201200-1687204800@bethmccann.ca
SUMMARY:Meditation
DESCRIPTION:Meditation through conscious breathing\, guided visualizations and focus on the energy body (chakras). Compassionate Inquiry. \n1 hour Zoom sessions available.\nMonday: 7:00PM-8:00PM\n*8 Classes ($160)\nJan.16th/23rd. Inquire for access.\n(dropin $20) \nZoom meditation Mon.7-8pm starting Jan.16/23 inquire for access.
URL:https://bethmccann.ca/event/meditation-4-2023-06-19/
CATEGORIES:Meditation
ORGANIZER;CN="Beth McCann":MAILTO:bmccann@telus.net
END:VEVENT
BEGIN:VEVENT
DTSTART;TZID=UTC:20230612T190000
DTEND;TZID=UTC:20230612T200000
DTSTAMP:20260424T103325
CREATED:20230102T031202Z
LAST-MODIFIED:20230102T031202Z
UID:1458-1686596400-1686600000@bethmccann.ca
SUMMARY:Meditation
DESCRIPTION:Meditation through conscious breathing\, guided visualizations and focus on the energy body (chakras). Compassionate Inquiry. \n1 hour Zoom sessions available.\nMonday: 7:00PM-8:00PM\n*8 Classes ($160)\nJan.16th/23rd. Inquire for access.\n(dropin $20) \nZoom meditation Mon.7-8pm starting Jan.16/23 inquire for access.
URL:https://bethmccann.ca/event/meditation-4-2023-06-12/
CATEGORIES:Meditation
ORGANIZER;CN="Beth McCann":MAILTO:bmccann@telus.net
END:VEVENT
BEGIN:VEVENT
DTSTART;TZID=UTC:20230605T190000
DTEND;TZID=UTC:20230605T200000
DTSTAMP:20260424T103325
CREATED:20230102T031202Z
LAST-MODIFIED:20230102T031202Z
UID:1457-1685991600-1685995200@bethmccann.ca
SUMMARY:Meditation
DESCRIPTION:Meditation through conscious breathing\, guided visualizations and focus on the energy body (chakras). Compassionate Inquiry. \n1 hour Zoom sessions available.\nMonday: 7:00PM-8:00PM\n*8 Classes ($160)\nJan.16th/23rd. Inquire for access.\n(dropin $20) \nZoom meditation Mon.7-8pm starting Jan.16/23 inquire for access.
URL:https://bethmccann.ca/event/meditation-4-2023-06-05/
CATEGORIES:Meditation
ORGANIZER;CN="Beth McCann":MAILTO:bmccann@telus.net
END:VEVENT
BEGIN:VEVENT
DTSTART;TZID=UTC:20230529T190000
DTEND;TZID=UTC:20230529T200000
DTSTAMP:20260424T103325
CREATED:20230102T031202Z
LAST-MODIFIED:20230102T031202Z
UID:1456-1685386800-1685390400@bethmccann.ca
SUMMARY:Meditation
DESCRIPTION:Meditation through conscious breathing\, guided visualizations and focus on the energy body (chakras). Compassionate Inquiry. \n1 hour Zoom sessions available.\nMonday: 7:00PM-8:00PM\n*8 Classes ($160)\nJan.16th/23rd. Inquire for access.\n(dropin $20) \nZoom meditation Mon.7-8pm starting Jan.16/23 inquire for access.
URL:https://bethmccann.ca/event/meditation-4-2023-05-29/
CATEGORIES:Meditation
ORGANIZER;CN="Beth McCann":MAILTO:bmccann@telus.net
END:VEVENT
BEGIN:VEVENT
DTSTART;TZID=UTC:20230522T190000
DTEND;TZID=UTC:20230522T200000
DTSTAMP:20260424T103325
CREATED:20230102T031202Z
LAST-MODIFIED:20230102T031202Z
UID:1455-1684782000-1684785600@bethmccann.ca
SUMMARY:Meditation
DESCRIPTION:Meditation through conscious breathing\, guided visualizations and focus on the energy body (chakras). Compassionate Inquiry. \n1 hour Zoom sessions available.\nMonday: 7:00PM-8:00PM\n*8 Classes ($160)\nJan.16th/23rd. Inquire for access.\n(dropin $20) \nZoom meditation Mon.7-8pm starting Jan.16/23 inquire for access.
URL:https://bethmccann.ca/event/meditation-4-2023-05-22/
CATEGORIES:Meditation
ORGANIZER;CN="Beth McCann":MAILTO:bmccann@telus.net
END:VEVENT
BEGIN:VEVENT
DTSTART;TZID=UTC:20230515T190000
DTEND;TZID=UTC:20230515T200000
DTSTAMP:20260424T103325
CREATED:20230102T031202Z
LAST-MODIFIED:20230102T031202Z
UID:1454-1684177200-1684180800@bethmccann.ca
SUMMARY:Meditation
DESCRIPTION:Meditation through conscious breathing\, guided visualizations and focus on the energy body (chakras). Compassionate Inquiry. \n1 hour Zoom sessions available.\nMonday: 7:00PM-8:00PM\n*8 Classes ($160)\nJan.16th/23rd. Inquire for access.\n(dropin $20) \nZoom meditation Mon.7-8pm starting Jan.16/23 inquire for access.
URL:https://bethmccann.ca/event/meditation-4-2023-05-15/
CATEGORIES:Meditation
ORGANIZER;CN="Beth McCann":MAILTO:bmccann@telus.net
END:VEVENT
BEGIN:VEVENT
DTSTART;TZID=UTC:20230508T190000
DTEND;TZID=UTC:20230508T200000
DTSTAMP:20260424T103325
CREATED:20230102T031202Z
LAST-MODIFIED:20230102T031202Z
UID:1453-1683572400-1683576000@bethmccann.ca
SUMMARY:Meditation
DESCRIPTION:Meditation through conscious breathing\, guided visualizations and focus on the energy body (chakras). Compassionate Inquiry. \n1 hour Zoom sessions available.\nMonday: 7:00PM-8:00PM\n*8 Classes ($160)\nJan.16th/23rd. Inquire for access.\n(dropin $20) \nZoom meditation Mon.7-8pm starting Jan.16/23 inquire for access.
URL:https://bethmccann.ca/event/meditation-4-2023-05-08/
CATEGORIES:Meditation
ORGANIZER;CN="Beth McCann":MAILTO:bmccann@telus.net
END:VEVENT
BEGIN:VEVENT
DTSTART;TZID=UTC:20230501T190000
DTEND;TZID=UTC:20230501T200000
DTSTAMP:20260424T103325
CREATED:20230102T031202Z
LAST-MODIFIED:20230102T031202Z
UID:1452-1682967600-1682971200@bethmccann.ca
SUMMARY:Meditation
DESCRIPTION:Meditation through conscious breathing\, guided visualizations and focus on the energy body (chakras). Compassionate Inquiry. \n1 hour Zoom sessions available.\nMonday: 7:00PM-8:00PM\n*8 Classes ($160)\nJan.16th/23rd. Inquire for access.\n(dropin $20) \nZoom meditation Mon.7-8pm starting Jan.16/23 inquire for access.
URL:https://bethmccann.ca/event/meditation-4-2023-05-01/
CATEGORIES:Meditation
ORGANIZER;CN="Beth McCann":MAILTO:bmccann@telus.net
END:VEVENT
BEGIN:VEVENT
DTSTART;TZID=UTC:20230424T190000
DTEND;TZID=UTC:20230424T200000
DTSTAMP:20260424T103325
CREATED:20230102T031202Z
LAST-MODIFIED:20230102T031202Z
UID:1451-1682362800-1682366400@bethmccann.ca
SUMMARY:Meditation
DESCRIPTION:Meditation through conscious breathing\, guided visualizations and focus on the energy body (chakras). Compassionate Inquiry. \n1 hour Zoom sessions available.\nMonday: 7:00PM-8:00PM\n*8 Classes ($160)\nJan.16th/23rd. Inquire for access.\n(dropin $20) \nZoom meditation Mon.7-8pm starting Jan.16/23 inquire for access.
URL:https://bethmccann.ca/event/meditation-4-2023-04-24/
CATEGORIES:Meditation
ORGANIZER;CN="Beth McCann":MAILTO:bmccann@telus.net
END:VEVENT
BEGIN:VEVENT
DTSTART;TZID=UTC:20230417T190000
DTEND;TZID=UTC:20230417T200000
DTSTAMP:20260424T103325
CREATED:20230102T031202Z
LAST-MODIFIED:20230102T031202Z
UID:1450-1681758000-1681761600@bethmccann.ca
SUMMARY:Meditation
DESCRIPTION:Meditation through conscious breathing\, guided visualizations and focus on the energy body (chakras). Compassionate Inquiry. \n1 hour Zoom sessions available.\nMonday: 7:00PM-8:00PM\n*8 Classes ($160)\nJan.16th/23rd. Inquire for access.\n(dropin $20) \nZoom meditation Mon.7-8pm starting Jan.16/23 inquire for access.
URL:https://bethmccann.ca/event/meditation-4-2023-04-17/
CATEGORIES:Meditation
ORGANIZER;CN="Beth McCann":MAILTO:bmccann@telus.net
END:VEVENT
BEGIN:VEVENT
DTSTART;TZID=UTC:20230410T190000
DTEND;TZID=UTC:20230410T200000
DTSTAMP:20260424T103325
CREATED:20230102T031202Z
LAST-MODIFIED:20230102T031202Z
UID:1449-1681153200-1681156800@bethmccann.ca
SUMMARY:Meditation
DESCRIPTION:Meditation through conscious breathing\, guided visualizations and focus on the energy body (chakras). Compassionate Inquiry. \n1 hour Zoom sessions available.\nMonday: 7:00PM-8:00PM\n*8 Classes ($160)\nJan.16th/23rd. Inquire for access.\n(dropin $20) \nZoom meditation Mon.7-8pm starting Jan.16/23 inquire for access.
URL:https://bethmccann.ca/event/meditation-4-2023-04-10/
CATEGORIES:Meditation
ORGANIZER;CN="Beth McCann":MAILTO:bmccann@telus.net
END:VEVENT
BEGIN:VEVENT
DTSTART;TZID=UTC:20230403T190000
DTEND;TZID=UTC:20230403T200000
DTSTAMP:20260424T103325
CREATED:20230102T031202Z
LAST-MODIFIED:20230102T031202Z
UID:1448-1680548400-1680552000@bethmccann.ca
SUMMARY:Meditation
DESCRIPTION:Meditation through conscious breathing\, guided visualizations and focus on the energy body (chakras). Compassionate Inquiry. \n1 hour Zoom sessions available.\nMonday: 7:00PM-8:00PM\n*8 Classes ($160)\nJan.16th/23rd. Inquire for access.\n(dropin $20) \nZoom meditation Mon.7-8pm starting Jan.16/23 inquire for access.
URL:https://bethmccann.ca/event/meditation-4-2023-04-03/
CATEGORIES:Meditation
ORGANIZER;CN="Beth McCann":MAILTO:bmccann@telus.net
END:VEVENT
BEGIN:VEVENT
DTSTART;TZID=UTC:20230327T190000
DTEND;TZID=UTC:20230327T200000
DTSTAMP:20260424T103325
CREATED:20230102T031202Z
LAST-MODIFIED:20230102T031202Z
UID:1447-1679943600-1679947200@bethmccann.ca
SUMMARY:Meditation
DESCRIPTION:Meditation through conscious breathing\, guided visualizations and focus on the energy body (chakras). Compassionate Inquiry. \n1 hour Zoom sessions available.\nMonday: 7:00PM-8:00PM\n*8 Classes ($160)\nJan.16th/23rd. Inquire for access.\n(dropin $20) \nZoom meditation Mon.7-8pm starting Jan.16/23 inquire for access.
URL:https://bethmccann.ca/event/meditation-4-2023-03-27/
CATEGORIES:Meditation
ORGANIZER;CN="Beth McCann":MAILTO:bmccann@telus.net
END:VEVENT
BEGIN:VEVENT
DTSTART;TZID=UTC:20230320T190000
DTEND;TZID=UTC:20230320T200000
DTSTAMP:20260424T103325
CREATED:20230102T031202Z
LAST-MODIFIED:20230102T031202Z
UID:1446-1679338800-1679342400@bethmccann.ca
SUMMARY:Meditation
DESCRIPTION:Meditation through conscious breathing\, guided visualizations and focus on the energy body (chakras). Compassionate Inquiry. \n1 hour Zoom sessions available.\nMonday: 7:00PM-8:00PM\n*8 Classes ($160)\nJan.16th/23rd. Inquire for access.\n(dropin $20) \nZoom meditation Mon.7-8pm starting Jan.16/23 inquire for access.
URL:https://bethmccann.ca/event/meditation-4-2023-03-20/
CATEGORIES:Meditation
ORGANIZER;CN="Beth McCann":MAILTO:bmccann@telus.net
END:VEVENT
BEGIN:VEVENT
DTSTART;TZID=UTC:20230313T190000
DTEND;TZID=UTC:20230313T200000
DTSTAMP:20260424T103325
CREATED:20230102T031202Z
LAST-MODIFIED:20230102T031202Z
UID:1445-1678734000-1678737600@bethmccann.ca
SUMMARY:Meditation
DESCRIPTION:Meditation through conscious breathing\, guided visualizations and focus on the energy body (chakras). Compassionate Inquiry. \n1 hour Zoom sessions available.\nMonday: 7:00PM-8:00PM\n*8 Classes ($160)\nJan.16th/23rd. Inquire for access.\n(dropin $20) \nZoom meditation Mon.7-8pm starting Jan.16/23 inquire for access.
URL:https://bethmccann.ca/event/meditation-4-2023-03-13/
CATEGORIES:Meditation
ORGANIZER;CN="Beth McCann":MAILTO:bmccann@telus.net
END:VEVENT
BEGIN:VEVENT
DTSTART;TZID=UTC:20230306T190000
DTEND;TZID=UTC:20230306T200000
DTSTAMP:20260424T103325
CREATED:20230102T031202Z
LAST-MODIFIED:20230102T031202Z
UID:1444-1678129200-1678132800@bethmccann.ca
SUMMARY:Meditation
DESCRIPTION:Meditation through conscious breathing\, guided visualizations and focus on the energy body (chakras). Compassionate Inquiry. \n1 hour Zoom sessions available.\nMonday: 7:00PM-8:00PM\n*8 Classes ($160)\nJan.16th/23rd. Inquire for access.\n(dropin $20) \nZoom meditation Mon.7-8pm starting Jan.16/23 inquire for access.
URL:https://bethmccann.ca/event/meditation-4-2023-03-06/
CATEGORIES:Meditation
ORGANIZER;CN="Beth McCann":MAILTO:bmccann@telus.net
END:VEVENT
BEGIN:VEVENT
DTSTART;TZID=UTC:20230227T190000
DTEND;TZID=UTC:20230227T200000
DTSTAMP:20260424T103325
CREATED:20230102T031202Z
LAST-MODIFIED:20230102T031202Z
UID:1443-1677524400-1677528000@bethmccann.ca
SUMMARY:Meditation
DESCRIPTION:Meditation through conscious breathing\, guided visualizations and focus on the energy body (chakras). Compassionate Inquiry. \n1 hour Zoom sessions available.\nMonday: 7:00PM-8:00PM\n*8 Classes ($160)\nJan.16th/23rd. Inquire for access.\n(dropin $20) \nZoom meditation Mon.7-8pm starting Jan.16/23 inquire for access.
URL:https://bethmccann.ca/event/meditation-4-2023-02-27/
CATEGORIES:Meditation
ORGANIZER;CN="Beth McCann":MAILTO:bmccann@telus.net
END:VEVENT
BEGIN:VEVENT
DTSTART;TZID=UTC:20230220T190000
DTEND;TZID=UTC:20230220T200000
DTSTAMP:20260424T103325
CREATED:20230102T031202Z
LAST-MODIFIED:20230102T031202Z
UID:1442-1676919600-1676923200@bethmccann.ca
SUMMARY:Meditation
DESCRIPTION:Meditation through conscious breathing\, guided visualizations and focus on the energy body (chakras). Compassionate Inquiry. \n1 hour Zoom sessions available.\nMonday: 7:00PM-8:00PM\n*8 Classes ($160)\nJan.16th/23rd. Inquire for access.\n(dropin $20) \nZoom meditation Mon.7-8pm starting Jan.16/23 inquire for access.
URL:https://bethmccann.ca/event/meditation-4-2023-02-20/
CATEGORIES:Meditation
ORGANIZER;CN="Beth McCann":MAILTO:bmccann@telus.net
END:VEVENT
BEGIN:VEVENT
DTSTART;TZID=UTC:20230213T190000
DTEND;TZID=UTC:20230213T200000
DTSTAMP:20260424T103325
CREATED:20230102T031202Z
LAST-MODIFIED:20230102T031202Z
UID:1441-1676314800-1676318400@bethmccann.ca
SUMMARY:Meditation
DESCRIPTION:Meditation through conscious breathing\, guided visualizations and focus on the energy body (chakras). Compassionate Inquiry. \n1 hour Zoom sessions available.\nMonday: 7:00PM-8:00PM\n*8 Classes ($160)\nJan.16th/23rd. Inquire for access.\n(dropin $20) \nZoom meditation Mon.7-8pm starting Jan.16/23 inquire for access.
URL:https://bethmccann.ca/event/meditation-4-2023-02-13/
CATEGORIES:Meditation
ORGANIZER;CN="Beth McCann":MAILTO:bmccann@telus.net
END:VEVENT
BEGIN:VEVENT
DTSTART;TZID=UTC:20230206T190000
DTEND;TZID=UTC:20230206T200000
DTSTAMP:20260424T103325
CREATED:20230102T031202Z
LAST-MODIFIED:20230102T031202Z
UID:1440-1675710000-1675713600@bethmccann.ca
SUMMARY:Meditation
DESCRIPTION:Meditation through conscious breathing\, guided visualizations and focus on the energy body (chakras). Compassionate Inquiry. \n1 hour Zoom sessions available.\nMonday: 7:00PM-8:00PM\n*8 Classes ($160)\nJan.16th/23rd. Inquire for access.\n(dropin $20) \nZoom meditation Mon.7-8pm starting Jan.16/23 inquire for access.
URL:https://bethmccann.ca/event/meditation-4-2023-02-06/
CATEGORIES:Meditation
ORGANIZER;CN="Beth McCann":MAILTO:bmccann@telus.net
END:VEVENT
BEGIN:VEVENT
DTSTART;TZID=UTC:20230130T190000
DTEND;TZID=UTC:20230130T200000
DTSTAMP:20260424T103325
CREATED:20230102T031202Z
LAST-MODIFIED:20230102T031202Z
UID:1439-1675105200-1675108800@bethmccann.ca
SUMMARY:Meditation
DESCRIPTION:Meditation through conscious breathing\, guided visualizations and focus on the energy body (chakras). Compassionate Inquiry. \n1 hour Zoom sessions available.\nMonday: 7:00PM-8:00PM\n*8 Classes ($160)\nJan.16th/23rd. Inquire for access.\n(dropin $20) \nZoom meditation Mon.7-8pm starting Jan.16/23 inquire for access.
URL:https://bethmccann.ca/event/meditation-4-2023-01-30/
CATEGORIES:Meditation
ORGANIZER;CN="Beth McCann":MAILTO:bmccann@telus.net
END:VEVENT
BEGIN:VEVENT
DTSTART;TZID=UTC:20230123T190000
DTEND;TZID=UTC:20230123T200000
DTSTAMP:20260424T103325
CREATED:20230102T031202Z
LAST-MODIFIED:20230102T031202Z
UID:1438-1674500400-1674504000@bethmccann.ca
SUMMARY:Meditation
DESCRIPTION:Meditation through conscious breathing\, guided visualizations and focus on the energy body (chakras). Compassionate Inquiry. \n1 hour Zoom sessions available.\nMonday: 7:00PM-8:00PM\n*8 Classes ($160)\nJan.16th/23rd. Inquire for access.\n(dropin $20) \nZoom meditation Mon.7-8pm starting Jan.16/23 inquire for access.
URL:https://bethmccann.ca/event/meditation-4-2023-01-23/
CATEGORIES:Meditation
ORGANIZER;CN="Beth McCann":MAILTO:bmccann@telus.net
END:VEVENT
BEGIN:VEVENT
DTSTART;TZID=UTC:20230116T190000
DTEND;TZID=UTC:20230116T200000
DTSTAMP:20260424T103325
CREATED:20230102T031202Z
LAST-MODIFIED:20230102T031202Z
UID:1427-1673895600-1673899200@bethmccann.ca
SUMMARY:Meditation
DESCRIPTION:Meditation through conscious breathing\, guided visualizations and focus on the energy body (chakras). Compassionate Inquiry. \n1 hour Zoom sessions available.\nMonday: 7:00PM-8:00PM\n*8 Classes ($160)\nJan.16th/23rd. Inquire for access.\n(dropin $20) \nZoom meditation Mon.7-8pm starting Jan.16/23 inquire for access.
URL:https://bethmccann.ca/event/meditation-4/
CATEGORIES:Meditation
ORGANIZER;CN="Beth McCann":MAILTO:bmccann@telus.net
END:VEVENT
BEGIN:VEVENT
DTSTART;TZID=UTC:20220621T113000
DTEND;TZID=UTC:20220621T123000
DTSTAMP:20260424T103325
CREATED:20220216T210538Z
LAST-MODIFIED:20220216T210538Z
UID:1279-1655811000-1655814600@bethmccann.ca
SUMMARY:Meditation
DESCRIPTION:Explore many ways to meditate along with conscious breathing\, guided visualizations. One of the easiest ways to connect and meditate on your chakras.   \nTaught through Zoom or at Beth’s residence for a total of 8 weeks at a time \nTuesday ~ 11:30AM-12:30PM \nClasses Begin: May 3\, 2022 to June 21\, 2022 ($160) \nDrop-In is $20 per class \n\n\n\n\nTo Register: Email bmccann@telus.net to register for a class. Please indicate date\, time and class offering that you are interested in attending. (EX: Tuesday\, Wednesday\, etc.)\nOr leave information on Beth’s secure phone line at 780-434-0741\nPlease state your phone number & email address in voicemail. \n\n\n  \nAll sessions taught at Beth’s residence require attendees to be COVID vaccinated \n\n\n\n\n\n\n\nFurther Information and Zoom link\, will be sent upon Registration \nFor questions\, concerns\, or sliding scale\, please contact bmccann@telus.net 780-434-0741
URL:https://bethmccann.ca/event/meditation-3-2022-06-21/
CATEGORIES:Meditation
ORGANIZER;CN="Beth McCann":MAILTO:bmccann@telus.net
END:VEVENT
BEGIN:VEVENT
DTSTART;TZID=UTC:20220614T113000
DTEND;TZID=UTC:20220614T123000
DTSTAMP:20260424T103325
CREATED:20220216T210538Z
LAST-MODIFIED:20220216T210538Z
UID:1278-1655206200-1655209800@bethmccann.ca
SUMMARY:Meditation
DESCRIPTION:Explore many ways to meditate along with conscious breathing\, guided visualizations. One of the easiest ways to connect and meditate on your chakras.   \nTaught through Zoom or at Beth’s residence for a total of 8 weeks at a time \nTuesday ~ 11:30AM-12:30PM \nClasses Begin: May 3\, 2022 to June 21\, 2022 ($160) \nDrop-In is $20 per class \n\n\n\n\nTo Register: Email bmccann@telus.net to register for a class. Please indicate date\, time and class offering that you are interested in attending. (EX: Tuesday\, Wednesday\, etc.)\nOr leave information on Beth’s secure phone line at 780-434-0741\nPlease state your phone number & email address in voicemail. \n\n\n  \nAll sessions taught at Beth’s residence require attendees to be COVID vaccinated \n\n\n\n\n\n\n\nFurther Information and Zoom link\, will be sent upon Registration \nFor questions\, concerns\, or sliding scale\, please contact bmccann@telus.net 780-434-0741
URL:https://bethmccann.ca/event/meditation-3-2022-06-14/
CATEGORIES:Meditation
ORGANIZER;CN="Beth McCann":MAILTO:bmccann@telus.net
END:VEVENT
BEGIN:VEVENT
DTSTART;TZID=UTC:20220607T113000
DTEND;TZID=UTC:20220607T123000
DTSTAMP:20260424T103325
CREATED:20220216T210538Z
LAST-MODIFIED:20220216T210538Z
UID:1277-1654601400-1654605000@bethmccann.ca
SUMMARY:Meditation
DESCRIPTION:Explore many ways to meditate along with conscious breathing\, guided visualizations. One of the easiest ways to connect and meditate on your chakras.   \nTaught through Zoom or at Beth’s residence for a total of 8 weeks at a time \nTuesday ~ 11:30AM-12:30PM \nClasses Begin: May 3\, 2022 to June 21\, 2022 ($160) \nDrop-In is $20 per class \n\n\n\n\nTo Register: Email bmccann@telus.net to register for a class. Please indicate date\, time and class offering that you are interested in attending. (EX: Tuesday\, Wednesday\, etc.)\nOr leave information on Beth’s secure phone line at 780-434-0741\nPlease state your phone number & email address in voicemail. \n\n\n  \nAll sessions taught at Beth’s residence require attendees to be COVID vaccinated \n\n\n\n\n\n\n\nFurther Information and Zoom link\, will be sent upon Registration \nFor questions\, concerns\, or sliding scale\, please contact bmccann@telus.net 780-434-0741
URL:https://bethmccann.ca/event/meditation-3-2022-06-07/
CATEGORIES:Meditation
ORGANIZER;CN="Beth McCann":MAILTO:bmccann@telus.net
END:VEVENT
END:VCALENDAR